BEGIN:VCALENDAR
VERSION:2.0
PRODID:-//Pinetop Star Quilt Shop - ECPv6.15.13.1//NONSGML v1.0//EN
CALSCALE:GREGORIAN
METHOD:PUBLISH
X-WR-CALNAME:Pinetop Star Quilt Shop
X-ORIGINAL-URL:https://pinetopstar.com
X-WR-CALDESC:Events for Pinetop Star Quilt Shop
REFRESH-INTERVAL;VALUE=DURATION:PT1H
X-Robots-Tag:noindex
X-PUBLISHED-TTL:PT1H
BEGIN:VTIMEZONE
TZID:America/Denver
BEGIN:DAYLIGHT
TZOFFSETFROM:-0700
TZOFFSETTO:-0600
TZNAME:MDT
DTSTART:20240310T090000
END:DAYLIGHT
BEGIN:STANDARD
TZOFFSETFROM:-0600
TZOFFSETTO:-0700
TZNAME:MST
DTSTART:20241103T080000
END:STANDARD
BEGIN:DAYLIGHT
TZOFFSETFROM:-0700
TZOFFSETTO:-0600
TZNAME:MDT
DTSTART:20250309T090000
END:DAYLIGHT
BEGIN:STANDARD
TZOFFSETFROM:-0600
TZOFFSETTO:-0700
TZNAME:MST
DTSTART:20251102T080000
END:STANDARD
BEGIN:DAYLIGHT
TZOFFSETFROM:-0700
TZOFFSETTO:-0600
TZNAME:MDT
DTSTART:20260308T090000
END:DAYLIGHT
BEGIN:STANDARD
TZOFFSETFROM:-0600
TZOFFSETTO:-0700
TZNAME:MST
DTSTART:20261101T080000
END:STANDARD
END:VTIMEZONE
BEGIN:VEVENT
DTSTART;TZID=America/Denver:20250603T100000
DTEND;TZID=America/Denver:20250603T150000
DTSTAMP:20260421T194358
CREATED:20250416T133524Z
LAST-MODIFIED:20250416T133524Z
UID:10000262-1748944800-1748962800@pinetopstar.com
SUMMARY:Flowering wreath
DESCRIPTION:
URL:https://pinetopstar.com/class/flowering-wreath/2025-06-03/
LOCATION:Pinetop Star
CATEGORIES:2-day class,Skill Level: all levels
ATTACH;FMTTYPE=image/jpeg:https://pinetopstar.com/wp-content/uploads/2025/04/IMG_1162-scaled.jpeg
END:VEVENT
END:VCALENDAR