BEGIN:VCALENDAR
VERSION:2.0
PRODID:-//Pinetop Star Quilt Shop - ECPv6.15.13.1//NONSGML v1.0//EN
CALSCALE:GREGORIAN
METHOD:PUBLISH
X-ORIGINAL-URL:https://pinetopstar.com
X-WR-CALDESC:Events for Pinetop Star Quilt Shop
REFRESH-INTERVAL;VALUE=DURATION:PT1H
X-Robots-Tag:noindex
X-PUBLISHED-TTL:PT1H
BEGIN:VTIMEZONE
TZID:America/Denver
BEGIN:DAYLIGHT
TZOFFSETFROM:-0700
TZOFFSETTO:-0600
TZNAME:MDT
DTSTART:20230312T090000
END:DAYLIGHT
BEGIN:STANDARD
TZOFFSETFROM:-0600
TZOFFSETTO:-0700
TZNAME:MST
DTSTART:20231105T080000
END:STANDARD
BEGIN:DAYLIGHT
TZOFFSETFROM:-0700
TZOFFSETTO:-0600
TZNAME:MDT
DTSTART:20240310T090000
END:DAYLIGHT
BEGIN:STANDARD
TZOFFSETFROM:-0600
TZOFFSETTO:-0700
TZNAME:MST
DTSTART:20241103T080000
END:STANDARD
BEGIN:DAYLIGHT
TZOFFSETFROM:-0700
TZOFFSETTO:-0600
TZNAME:MDT
DTSTART:20250309T090000
END:DAYLIGHT
BEGIN:STANDARD
TZOFFSETFROM:-0600
TZOFFSETTO:-0700
TZNAME:MST
DTSTART:20251102T080000
END:STANDARD
BEGIN:DAYLIGHT
TZOFFSETFROM:-0700
TZOFFSETTO:-0600
TZNAME:MDT
DTSTART:20260308T090000
END:DAYLIGHT
BEGIN:STANDARD
TZOFFSETFROM:-0600
TZOFFSETTO:-0700
TZNAME:MST
DTSTART:20261101T080000
END:STANDARD
END:VTIMEZONE
BEGIN:VEVENT
DTSTART;TZID=America/Denver:20250728T100000
DTEND;TZID=America/Denver:20250728T150000
DTSTAMP:20260421T063701
CREATED:20250416T133840Z
LAST-MODIFIED:20250416T133840Z
UID:10000265-1753696800-1753714800@pinetopstar.com
SUMMARY:Curvy Log Cabin
DESCRIPTION:
URL:https://pinetopstar.com/class/curvy-log-cabin/2025-07-28/
LOCATION:Pinetop Star
CATEGORIES:2-day class,Skill Level: Intermediate
ATTACH;FMTTYPE=image/jpeg:https://pinetopstar.com/wp-content/uploads/2025/04/IMG_1160-scaled.jpeg
END:VEVENT
BEGIN:VEVENT
DTSTART;TZID=America/Denver:20250719T100000
DTEND;TZID=America/Denver:20250719T150000
DTSTAMP:20260421T063701
CREATED:20250603T153602Z
LAST-MODIFIED:20250603T153602Z
UID:10000307-1752919200-1752937200@pinetopstar.com
SUMMARY:Book Nook
DESCRIPTION:Learn to make this cute book quilt
URL:https://pinetopstar.com/class/book-nook/2025-07-19/
LOCATION:Pinetop Star
CATEGORIES:2-day class,Skill Level: Intermediate
ATTACH;FMTTYPE=image/jpeg:https://pinetopstar.com/wp-content/uploads/2025/06/book-nook.jpg
END:VEVENT
BEGIN:VEVENT
DTSTART;TZID=America/Denver:20250714T100000
DTEND;TZID=America/Denver:20250714T150000
DTSTAMP:20260421T063701
CREATED:20250416T133840Z
LAST-MODIFIED:20250416T133840Z
UID:10000264-1752487200-1752505200@pinetopstar.com
SUMMARY:Curvy Log Cabin
DESCRIPTION:
URL:https://pinetopstar.com/class/curvy-log-cabin/2025-07-14/
LOCATION:Pinetop Star
CATEGORIES:2-day class,Skill Level: Intermediate
ATTACH;FMTTYPE=image/jpeg:https://pinetopstar.com/wp-content/uploads/2025/04/IMG_1160-scaled.jpeg
END:VEVENT
BEGIN:VEVENT
DTSTART;TZID=America/Denver:20250707T100000
DTEND;TZID=America/Denver:20250707T150000
DTSTAMP:20260421T063701
CREATED:20250603T153602Z
LAST-MODIFIED:20250603T153602Z
UID:10000306-1751882400-1751900400@pinetopstar.com
SUMMARY:Book Nook
DESCRIPTION:Learn to make this cute book quilt
URL:https://pinetopstar.com/class/book-nook/2025-07-07/
LOCATION:Pinetop Star
CATEGORIES:2-day class,Skill Level: Intermediate
ATTACH;FMTTYPE=image/jpeg:https://pinetopstar.com/wp-content/uploads/2025/06/book-nook.jpg
END:VEVENT
BEGIN:VEVENT
DTSTART;TZID=America/Denver:20250630T100000
DTEND;TZID=America/Denver:20250630T150000
DTSTAMP:20260421T063701
CREATED:20240824T152106Z
LAST-MODIFIED:20250517T025121Z
UID:10000304-1751277600-1751295600@pinetopstar.com
SUMMARY:Beginning Quilting #2 (Walk About)
DESCRIPTION:This is a Beginners class that follows the Beginner #1 Class.  In this class you will learn to work with Half Square Triangles (HST) and Mitered Borders.
URL:https://pinetopstar.com/class/beginning-quilting-2-walk-about/2025-06-30/
CATEGORIES:2-day class,Skill Level: Beginner
ATTACH;FMTTYPE=image/jpeg:https://pinetopstar.com/wp-content/uploads/2024/08/image000000-e1724512781751.jpeg
END:VEVENT
BEGIN:VEVENT
DTSTART;TZID=America/Denver:20250624T100000
DTEND;TZID=America/Denver:20250625T150000
DTSTAMP:20260421T063701
CREATED:20250517T024345Z
LAST-MODIFIED:20250517T024345Z
UID:10000302-1750759200-1750863600@pinetopstar.com
SUMMARY:City Bag
DESCRIPTION:
URL:https://pinetopstar.com/class/city-bag/
LOCATION:Pinetop Star
CATEGORIES:2-day class,Skill Level: Intermediate
END:VEVENT
BEGIN:VEVENT
DTSTART;TZID=America/Denver:20250617T100000
DTEND;TZID=America/Denver:20250617T150000
DTSTAMP:20260421T063701
CREATED:20250416T133524Z
LAST-MODIFIED:20250416T133524Z
UID:10000263-1750154400-1750172400@pinetopstar.com
SUMMARY:Flowering wreath
DESCRIPTION:
URL:https://pinetopstar.com/class/flowering-wreath/2025-06-17/
LOCATION:Pinetop Star
CATEGORIES:2-day class,Skill Level: all levels
ATTACH;FMTTYPE=image/jpeg:https://pinetopstar.com/wp-content/uploads/2025/04/IMG_1162-scaled.jpeg
END:VEVENT
BEGIN:VEVENT
DTSTART;TZID=America/Denver:20250616T100000
DTEND;TZID=America/Denver:20250616T153000
DTSTAMP:20260421T063701
CREATED:20240824T152106Z
LAST-MODIFIED:20250517T025121Z
UID:10000303-1750068000-1750087800@pinetopstar.com
SUMMARY:Beginning Quilting #2 (Walk About)
DESCRIPTION:This is a Beginners class that follows the Beginner #1 Class.  In this class you will learn to work with Half Square Triangles (HST) and Mitered Borders.
URL:https://pinetopstar.com/class/beginning-quilting-2-walk-about/2025-06-16/
CATEGORIES:2-day class,Skill Level: Beginner
ATTACH;FMTTYPE=image/jpeg:https://pinetopstar.com/wp-content/uploads/2024/08/image000000-e1724512781751.jpeg
END:VEVENT
BEGIN:VEVENT
DTSTART;TZID=America/Denver:20250603T100000
DTEND;TZID=America/Denver:20250603T150000
DTSTAMP:20260421T063701
CREATED:20250416T133524Z
LAST-MODIFIED:20250416T133524Z
UID:10000262-1748944800-1748962800@pinetopstar.com
SUMMARY:Flowering wreath
DESCRIPTION:
URL:https://pinetopstar.com/class/flowering-wreath/2025-06-03/
LOCATION:Pinetop Star
CATEGORIES:2-day class,Skill Level: all levels
ATTACH;FMTTYPE=image/jpeg:https://pinetopstar.com/wp-content/uploads/2025/04/IMG_1162-scaled.jpeg
END:VEVENT
BEGIN:VEVENT
DTSTART;TZID=America/Denver:20250602T100000
DTEND;TZID=America/Denver:20250602T150000
DTSTAMP:20260421T063701
CREATED:20250416T133148Z
LAST-MODIFIED:20250416T133148Z
UID:10000266-1748858400-1748876400@pinetopstar.com
SUMMARY:Tilda Calendar
DESCRIPTION:
URL:https://pinetopstar.com/class/tilda-calendar/
LOCATION:Pinetop Star
CATEGORIES:2-day class,Skill Level: Intermediate
ATTACH;FMTTYPE=image/jpeg:https://pinetopstar.com/wp-content/uploads/2025/04/IMG_1161-scaled.jpeg
END:VEVENT
BEGIN:VEVENT
DTSTART;TZID=America/Denver:20250602T100000
DTEND;TZID=America/Denver:20250602T150000
DTSTAMP:20260421T063701
CREATED:20250402T164554Z
LAST-MODIFIED:20250402T165634Z
UID:10000252-1748858400-1748876400@pinetopstar.com
SUMMARY:Tilda Xmas Calendar
DESCRIPTION:Come learn to make this adorable Tilda Christmas Calendar.
URL:https://pinetopstar.com/class/tilda-xmas-calendar/2025-06-02/
LOCATION:Pinetop Star
CATEGORIES:2-day class,Skill Level: Intermediate
ATTACH;FMTTYPE=image/jpeg:https://pinetopstar.com/wp-content/uploads/2025/04/Patterns-Webpictures_CM25.jpg
END:VEVENT
BEGIN:VEVENT
DTSTART;TZID=America/Denver:20250528T100000
DTEND;TZID=America/Denver:20250528T150000
DTSTAMP:20260421T063701
CREATED:20250402T171340Z
LAST-MODIFIED:20250402T171511Z
UID:10000257-1748426400-1748444400@pinetopstar.com
SUMMARY:Wool I & II
DESCRIPTION:Come meet Nancy and take her beginning Wool Applique’ Class.  You will learn so much working with Nancy.  She will teach you some valuable applique’ techniques. \nWool I May 5th \nWool II May 15th & 28th
URL:https://pinetopstar.com/class/wool-i/2025-05-28/
LOCATION:Pinetop Star
CATEGORIES:2-day class,Skill Level: Beginner
END:VEVENT
BEGIN:VEVENT
DTSTART;TZID=America/Denver:20250523T103000
DTEND;TZID=America/Denver:20250523T150000
DTSTAMP:20260421T063701
CREATED:20250402T170150Z
LAST-MODIFIED:20250402T170150Z
UID:10000254-1747996200-1748012400@pinetopstar.com
SUMMARY:Paper Piecing Log Cabin
DESCRIPTION:Great class for beginners wanting to learn Foundation Paper Piecing. \nThis Log Cabin Block is great for beginners. \n 
URL:https://pinetopstar.com/class/paper-piecing-log-cabin/2025-05-23/
LOCATION:Pinetop Star
CATEGORIES:2-day class,Skill Level: all levels
ATTACH;FMTTYPE=image/jpeg:https://pinetopstar.com/wp-content/uploads/2025/04/ISE-753.jpg
END:VEVENT
BEGIN:VEVENT
DTSTART;TZID=America/Denver:20250522T103000
DTEND;TZID=America/Denver:20250522T150000
DTSTAMP:20260421T063701
CREATED:20250402T170150Z
LAST-MODIFIED:20250402T170150Z
UID:10000253-1747909800-1747926000@pinetopstar.com
SUMMARY:Paper Piecing Log Cabin
DESCRIPTION:Great class for beginners wanting to learn Foundation Paper Piecing. \nThis Log Cabin Block is great for beginners. \n 
URL:https://pinetopstar.com/class/paper-piecing-log-cabin/2025-05-22/
LOCATION:Pinetop Star
CATEGORIES:2-day class,Skill Level: all levels
ATTACH;FMTTYPE=image/jpeg:https://pinetopstar.com/wp-content/uploads/2025/04/ISE-753.jpg
END:VEVENT
BEGIN:VEVENT
DTSTART;TZID=America/Denver:20250519T103000
DTEND;TZID=America/Denver:20250519T150000
DTSTAMP:20260421T063701
CREATED:20250402T164554Z
LAST-MODIFIED:20250402T165634Z
UID:10000251-1747650600-1747666800@pinetopstar.com
SUMMARY:Tilda Xmas Calendar
DESCRIPTION:Come learn to make this adorable Tilda Christmas Calendar.
URL:https://pinetopstar.com/class/tilda-xmas-calendar/2025-05-19/
LOCATION:Pinetop Star
CATEGORIES:2-day class,Skill Level: Intermediate
ATTACH;FMTTYPE=image/jpeg:https://pinetopstar.com/wp-content/uploads/2025/04/Patterns-Webpictures_CM25.jpg
END:VEVENT
BEGIN:VEVENT
DTSTART;TZID=America/Denver:20250515T100000
DTEND;TZID=America/Denver:20250515T150000
DTSTAMP:20260421T063701
CREATED:20250402T171340Z
LAST-MODIFIED:20250402T171511Z
UID:10000256-1747303200-1747321200@pinetopstar.com
SUMMARY:Wool I & II
DESCRIPTION:Come meet Nancy and take her beginning Wool Applique’ Class.  You will learn so much working with Nancy.  She will teach you some valuable applique’ techniques. \nWool I May 5th \nWool II May 15th & 28th
URL:https://pinetopstar.com/class/wool-i/2025-05-15/
LOCATION:Pinetop Star
CATEGORIES:2-day class,Skill Level: Beginner
END:VEVENT
BEGIN:VEVENT
DTSTART;TZID=America/Denver:20250505T100000
DTEND;TZID=America/Denver:20250505T150000
DTSTAMP:20260421T063701
CREATED:20250402T171340Z
LAST-MODIFIED:20250402T171511Z
UID:10000255-1746439200-1746457200@pinetopstar.com
SUMMARY:Wool I & II
DESCRIPTION:Come meet Nancy and take her beginning Wool Applique’ Class.  You will learn so much working with Nancy.  She will teach you some valuable applique’ techniques. \nWool I May 5th \nWool II May 15th & 28th
URL:https://pinetopstar.com/class/wool-i/2025-05-05/
LOCATION:Pinetop Star
CATEGORIES:2-day class,Skill Level: Beginner
END:VEVENT
BEGIN:VEVENT
DTSTART;TZID=America/Denver:20250423T103000
DTEND;TZID=America/Denver:20250423T143000
DTSTAMP:20260421T063701
CREATED:20250308T160212Z
LAST-MODIFIED:20250308T163422Z
UID:10000245-1745404200-1745418600@pinetopstar.com
SUMMARY:Bodacious Button Bag Class
DESCRIPTION:Come learn to make this awesome bag.
URL:https://pinetopstar.com/class/bodacious-button-bag-class/2025-04-23/
LOCATION:Pinetop Star
CATEGORIES:2-day class,Skill Level: Intermediate
ATTACH;FMTTYPE=image/jpeg:https://pinetopstar.com/wp-content/uploads/2025/03/IMG_1080.jpeg
END:VEVENT
BEGIN:VEVENT
DTSTART;TZID=America/Denver:20250422T103000
DTEND;TZID=America/Denver:20250422T143000
DTSTAMP:20260421T063701
CREATED:20250308T160212Z
LAST-MODIFIED:20250308T163422Z
UID:10000244-1745317800-1745332200@pinetopstar.com
SUMMARY:Bodacious Button Bag Class
DESCRIPTION:Come learn to make this awesome bag.
URL:https://pinetopstar.com/class/bodacious-button-bag-class/2025-04-22/
LOCATION:Pinetop Star
CATEGORIES:2-day class,Skill Level: Intermediate
ATTACH;FMTTYPE=image/jpeg:https://pinetopstar.com/wp-content/uploads/2025/03/IMG_1080.jpeg
END:VEVENT
BEGIN:VEVENT
DTSTART;TZID=America/Denver:20250417T103000
DTEND;TZID=America/Denver:20250417T143000
DTSTAMP:20260421T063701
CREATED:20250203T221141Z
LAST-MODIFIED:20250402T163459Z
UID:10000250-1744885800-1744900200@pinetopstar.com
SUMMARY:Beginning Quilt #1
DESCRIPTION:Come take this class.  It is designed for eager beginners or hesitant newcomers\, where you will learn various skills associated with  colors\, rotary cutters\, rulers\, cutting mats\, thread\, needles\, etc… \nNo previous experience required.  You do need a sewing machine that you already know how to turn on\, wind a bobbin\, thread the needle\, and sew a line. \nCome get started with this class and I can assure you\, you will get hooked and will look forward to making your next quilt.
URL:https://pinetopstar.com/class/beginning-quilt-1/2025-04-17/
LOCATION:Pinetop Star
CATEGORIES:2-day class,Skill Level: Beginner
ATTACH;FMTTYPE=image/jpeg:https://pinetopstar.com/wp-content/uploads/2025/02/IMG_0981-scaled.jpeg
END:VEVENT
BEGIN:VEVENT
DTSTART;TZID=America/Denver:20250410T103000
DTEND;TZID=America/Denver:20250410T143000
DTSTAMP:20260421T063701
CREATED:20250203T221141Z
LAST-MODIFIED:20250402T163459Z
UID:10000249-1744281000-1744295400@pinetopstar.com
SUMMARY:Beginning Quilt #1
DESCRIPTION:Come take this class.  It is designed for eager beginners or hesitant newcomers\, where you will learn various skills associated with  colors\, rotary cutters\, rulers\, cutting mats\, thread\, needles\, etc… \nNo previous experience required.  You do need a sewing machine that you already know how to turn on\, wind a bobbin\, thread the needle\, and sew a line. \nCome get started with this class and I can assure you\, you will get hooked and will look forward to making your next quilt.
URL:https://pinetopstar.com/class/beginning-quilt-1/2025-04-10/
LOCATION:Pinetop Star
CATEGORIES:2-day class,Skill Level: Beginner
ATTACH;FMTTYPE=image/jpeg:https://pinetopstar.com/wp-content/uploads/2025/02/IMG_0981-scaled.jpeg
END:VEVENT
BEGIN:VEVENT
DTSTART;TZID=America/Denver:20250326T100000
DTEND;TZID=America/Denver:20250326T143000
DTSTAMP:20260421T063701
CREATED:20250308T160212Z
LAST-MODIFIED:20250308T163422Z
UID:10000243-1742983200-1742999400@pinetopstar.com
SUMMARY:Bodacious Button Bag Class
DESCRIPTION:Come learn to make this awesome bag.
URL:https://pinetopstar.com/class/bodacious-button-bag-class/2025-03-26/
LOCATION:Pinetop Star
CATEGORIES:2-day class,Skill Level: Intermediate
ATTACH;FMTTYPE=image/jpeg:https://pinetopstar.com/wp-content/uploads/2025/03/IMG_1080.jpeg
END:VEVENT
BEGIN:VEVENT
DTSTART;TZID=America/Denver:20250325T100000
DTEND;TZID=America/Denver:20250325T143000
DTSTAMP:20260421T063701
CREATED:20250308T160212Z
LAST-MODIFIED:20250308T163422Z
UID:10000242-1742896800-1742913000@pinetopstar.com
SUMMARY:Bodacious Button Bag Class
DESCRIPTION:Come learn to make this awesome bag.
URL:https://pinetopstar.com/class/bodacious-button-bag-class/2025-03-25/
LOCATION:Pinetop Star
CATEGORIES:2-day class,Skill Level: Intermediate
ATTACH;FMTTYPE=image/jpeg:https://pinetopstar.com/wp-content/uploads/2025/03/IMG_1080.jpeg
END:VEVENT
BEGIN:VEVENT
DTSTART;TZID=America/Denver:20250320T100000
DTEND;TZID=America/Denver:20250320T150000
DTSTAMP:20260421T063701
CREATED:20250203T221141Z
LAST-MODIFIED:20250402T163459Z
UID:10000241-1742464800-1742482800@pinetopstar.com
SUMMARY:Beginning Quilt #1
DESCRIPTION:Come take this class.  It is designed for eager beginners or hesitant newcomers\, where you will learn various skills associated with  colors\, rotary cutters\, rulers\, cutting mats\, thread\, needles\, etc… \nNo previous experience required.  You do need a sewing machine that you already know how to turn on\, wind a bobbin\, thread the needle\, and sew a line. \nCome get started with this class and I can assure you\, you will get hooked and will look forward to making your next quilt.
URL:https://pinetopstar.com/class/beginning-quilt-1/2025-03-20/
LOCATION:Pinetop Star
CATEGORIES:2-day class,Skill Level: Beginner
ATTACH;FMTTYPE=image/jpeg:https://pinetopstar.com/wp-content/uploads/2025/02/IMG_0981-scaled.jpeg
END:VEVENT
BEGIN:VEVENT
DTSTART;TZID=America/Denver:20250313T100000
DTEND;TZID=America/Denver:20250313T150000
DTSTAMP:20260421T063701
CREATED:20250203T221141Z
LAST-MODIFIED:20250402T163459Z
UID:10000239-1741860000-1741878000@pinetopstar.com
SUMMARY:Beginning Quilt #1
DESCRIPTION:Come take this class.  It is designed for eager beginners or hesitant newcomers\, where you will learn various skills associated with  colors\, rotary cutters\, rulers\, cutting mats\, thread\, needles\, etc… \nNo previous experience required.  You do need a sewing machine that you already know how to turn on\, wind a bobbin\, thread the needle\, and sew a line. \nCome get started with this class and I can assure you\, you will get hooked and will look forward to making your next quilt.
URL:https://pinetopstar.com/class/beginning-quilt-1/2025-03-13/
LOCATION:Pinetop Star
CATEGORIES:2-day class,Skill Level: Beginner
ATTACH;FMTTYPE=image/jpeg:https://pinetopstar.com/wp-content/uploads/2025/02/IMG_0981-scaled.jpeg
END:VEVENT
BEGIN:VEVENT
DTSTART;TZID=America/Denver:20240731T100000
DTEND;TZID=America/Denver:20240731T150000
DTSTAMP:20260421T063701
CREATED:20240630T224635Z
LAST-MODIFIED:20240630T224635Z
UID:10000038-1722420000-1722438000@pinetopstar.com
SUMMARY:Walk About Quilt
DESCRIPTION:This a sequel to the Beginners Class.  Once you master the Beginners Class\, this class will add more techniques such as Half-Square-Triangles and sashing.  Come learn and have fun!
URL:https://pinetopstar.com/class/walk-about-quilt/2024-07-31/
LOCATION:Pinetop Star
CATEGORIES:2-day class,Skill Level: Beginner
ATTACH;FMTTYPE=image/jpeg:https://pinetopstar.com/wp-content/uploads/2024/06/20210824_165459_20210930154524.jpg
END:VEVENT
BEGIN:VEVENT
DTSTART;TZID=America/Denver:20240730T100000
DTEND;TZID=America/Denver:20240730T150000
DTSTAMP:20260421T063701
CREATED:20240630T210528Z
LAST-MODIFIED:20240630T210528Z
UID:10000032-1722333600-1722351600@pinetopstar.com
SUMMARY:70's and Sunny Quilt
DESCRIPTION:Let Emily elevate your quilting skills beyond the basics with this beautiful quilt.  You will learn to work more with color choices\, and quilting techniques. \n2-Day Class \n$45.00
URL:https://pinetopstar.com/class/70s-and-sunny-quilt/2024-07-30/
LOCATION:Pinetop Star
CATEGORIES:2-day class,Skill Level: Advanced
ATTACH;FMTTYPE=image/jpeg:https://pinetopstar.com/wp-content/uploads/2024/06/IMG_1705.jpeg
END:VEVENT
BEGIN:VEVENT
DTSTART;TZID=America/Denver:20240724T100000
DTEND;TZID=America/Denver:20240724T150000
DTSTAMP:20260421T063701
CREATED:20240630T224635Z
LAST-MODIFIED:20240630T224635Z
UID:10000037-1721815200-1721833200@pinetopstar.com
SUMMARY:Walk About Quilt
DESCRIPTION:This a sequel to the Beginners Class.  Once you master the Beginners Class\, this class will add more techniques such as Half-Square-Triangles and sashing.  Come learn and have fun!
URL:https://pinetopstar.com/class/walk-about-quilt/2024-07-24/
LOCATION:Pinetop Star
CATEGORIES:2-day class,Skill Level: Beginner
ATTACH;FMTTYPE=image/jpeg:https://pinetopstar.com/wp-content/uploads/2024/06/20210824_165459_20210930154524.jpg
END:VEVENT
BEGIN:VEVENT
DTSTART;TZID=America/Denver:20240716T100000
DTEND;TZID=America/Denver:20240716T150000
DTSTAMP:20260421T063701
CREATED:20240630T210528Z
LAST-MODIFIED:20240630T210528Z
UID:10000031-1721124000-1721142000@pinetopstar.com
SUMMARY:70's and Sunny Quilt
DESCRIPTION:Let Emily elevate your quilting skills beyond the basics with this beautiful quilt.  You will learn to work more with color choices\, and quilting techniques. \n2-Day Class \n$45.00
URL:https://pinetopstar.com/class/70s-and-sunny-quilt/2024-07-16/
LOCATION:Pinetop Star
CATEGORIES:2-day class,Skill Level: Advanced
ATTACH;FMTTYPE=image/jpeg:https://pinetopstar.com/wp-content/uploads/2024/06/IMG_1705.jpeg
END:VEVENT
END:VCALENDAR