BEGIN:VCALENDAR
VERSION:2.0
PRODID:-//Pinetop Star Quilt Shop - ECPv6.15.13.1//NONSGML v1.0//EN
CALSCALE:GREGORIAN
METHOD:PUBLISH
X-WR-CALNAME:Pinetop Star Quilt Shop
X-ORIGINAL-URL:https://pinetopstar.com
X-WR-CALDESC:Events for Pinetop Star Quilt Shop
REFRESH-INTERVAL;VALUE=DURATION:PT1H
X-Robots-Tag:noindex
X-PUBLISHED-TTL:PT1H
BEGIN:VTIMEZONE
TZID:America/Denver
BEGIN:DAYLIGHT
TZOFFSETFROM:-0700
TZOFFSETTO:-0600
TZNAME:MDT
DTSTART:20230312T090000
END:DAYLIGHT
BEGIN:STANDARD
TZOFFSETFROM:-0600
TZOFFSETTO:-0700
TZNAME:MST
DTSTART:20231105T080000
END:STANDARD
BEGIN:DAYLIGHT
TZOFFSETFROM:-0700
TZOFFSETTO:-0600
TZNAME:MDT
DTSTART:20240310T090000
END:DAYLIGHT
BEGIN:STANDARD
TZOFFSETFROM:-0600
TZOFFSETTO:-0700
TZNAME:MST
DTSTART:20241103T080000
END:STANDARD
BEGIN:DAYLIGHT
TZOFFSETFROM:-0700
TZOFFSETTO:-0600
TZNAME:MDT
DTSTART:20250309T090000
END:DAYLIGHT
BEGIN:STANDARD
TZOFFSETFROM:-0600
TZOFFSETTO:-0700
TZNAME:MST
DTSTART:20251102T080000
END:STANDARD
BEGIN:DAYLIGHT
TZOFFSETFROM:-0700
TZOFFSETTO:-0600
TZNAME:MDT
DTSTART:20260308T090000
END:DAYLIGHT
BEGIN:STANDARD
TZOFFSETFROM:-0600
TZOFFSETTO:-0700
TZNAME:MST
DTSTART:20261101T080000
END:STANDARD
END:VTIMEZONE
BEGIN:VEVENT
DTSTART;TZID=America/Denver:20250313T100000
DTEND;TZID=America/Denver:20250313T150000
DTSTAMP:20260421T092328
CREATED:20250203T221141Z
LAST-MODIFIED:20250402T163459Z
UID:10000239-1741860000-1741878000@pinetopstar.com
SUMMARY:Beginning Quilt #1
DESCRIPTION:Come take this class.  It is designed for eager beginners or hesitant newcomers\, where you will learn various skills associated with  colors\, rotary cutters\, rulers\, cutting mats\, thread\, needles\, etc… \nNo previous experience required.  You do need a sewing machine that you already know how to turn on\, wind a bobbin\, thread the needle\, and sew a line. \nCome get started with this class and I can assure you\, you will get hooked and will look forward to making your next quilt.
URL:https://pinetopstar.com/class/beginning-quilt-1/2025-03-13/
LOCATION:Pinetop Star
CATEGORIES:2-day class,Skill Level: Beginner
ATTACH;FMTTYPE=image/jpeg:https://pinetopstar.com/wp-content/uploads/2025/02/IMG_0981-scaled.jpeg
END:VEVENT
BEGIN:VEVENT
DTSTART;TZID=America/Denver:20240731T100000
DTEND;TZID=America/Denver:20240731T150000
DTSTAMP:20260421T092328
CREATED:20240630T224635Z
LAST-MODIFIED:20240630T224635Z
UID:10000038-1722420000-1722438000@pinetopstar.com
SUMMARY:Walk About Quilt
DESCRIPTION:This a sequel to the Beginners Class.  Once you master the Beginners Class\, this class will add more techniques such as Half-Square-Triangles and sashing.  Come learn and have fun!
URL:https://pinetopstar.com/class/walk-about-quilt/2024-07-31/
LOCATION:Pinetop Star
CATEGORIES:2-day class,Skill Level: Beginner
ATTACH;FMTTYPE=image/jpeg:https://pinetopstar.com/wp-content/uploads/2024/06/20210824_165459_20210930154524.jpg
END:VEVENT
BEGIN:VEVENT
DTSTART;TZID=America/Denver:20240730T100000
DTEND;TZID=America/Denver:20240730T150000
DTSTAMP:20260421T092328
CREATED:20240630T210528Z
LAST-MODIFIED:20240630T210528Z
UID:10000032-1722333600-1722351600@pinetopstar.com
SUMMARY:70's and Sunny Quilt
DESCRIPTION:Let Emily elevate your quilting skills beyond the basics with this beautiful quilt.  You will learn to work more with color choices\, and quilting techniques. \n2-Day Class \n$45.00
URL:https://pinetopstar.com/class/70s-and-sunny-quilt/2024-07-30/
LOCATION:Pinetop Star
CATEGORIES:2-day class,Skill Level: Advanced
ATTACH;FMTTYPE=image/jpeg:https://pinetopstar.com/wp-content/uploads/2024/06/IMG_1705.jpeg
END:VEVENT
BEGIN:VEVENT
DTSTART;TZID=America/Denver:20240724T100000
DTEND;TZID=America/Denver:20240724T150000
DTSTAMP:20260421T092328
CREATED:20240630T224635Z
LAST-MODIFIED:20240630T224635Z
UID:10000037-1721815200-1721833200@pinetopstar.com
SUMMARY:Walk About Quilt
DESCRIPTION:This a sequel to the Beginners Class.  Once you master the Beginners Class\, this class will add more techniques such as Half-Square-Triangles and sashing.  Come learn and have fun!
URL:https://pinetopstar.com/class/walk-about-quilt/2024-07-24/
LOCATION:Pinetop Star
CATEGORIES:2-day class,Skill Level: Beginner
ATTACH;FMTTYPE=image/jpeg:https://pinetopstar.com/wp-content/uploads/2024/06/20210824_165459_20210930154524.jpg
END:VEVENT
BEGIN:VEVENT
DTSTART;TZID=America/Denver:20240716T100000
DTEND;TZID=America/Denver:20240716T150000
DTSTAMP:20260421T092328
CREATED:20240630T210528Z
LAST-MODIFIED:20240630T210528Z
UID:10000031-1721124000-1721142000@pinetopstar.com
SUMMARY:70's and Sunny Quilt
DESCRIPTION:Let Emily elevate your quilting skills beyond the basics with this beautiful quilt.  You will learn to work more with color choices\, and quilting techniques. \n2-Day Class \n$45.00
URL:https://pinetopstar.com/class/70s-and-sunny-quilt/2024-07-16/
LOCATION:Pinetop Star
CATEGORIES:2-day class,Skill Level: Advanced
ATTACH;FMTTYPE=image/jpeg:https://pinetopstar.com/wp-content/uploads/2024/06/IMG_1705.jpeg
END:VEVENT
END:VCALENDAR