BEGIN:VCALENDAR
VERSION:2.0
PRODID:-//Pinetop Star Quilt Shop - ECPv6.15.13.1//NONSGML v1.0//EN
CALSCALE:GREGORIAN
METHOD:PUBLISH
X-ORIGINAL-URL:https://pinetopstar.com
X-WR-CALDESC:Events for Pinetop Star Quilt Shop
REFRESH-INTERVAL;VALUE=DURATION:PT1H
X-Robots-Tag:noindex
X-PUBLISHED-TTL:PT1H
BEGIN:VTIMEZONE
TZID:America/Denver
BEGIN:DAYLIGHT
TZOFFSETFROM:-0700
TZOFFSETTO:-0600
TZNAME:MDT
DTSTART:20250309T090000
END:DAYLIGHT
BEGIN:STANDARD
TZOFFSETFROM:-0600
TZOFFSETTO:-0700
TZNAME:MST
DTSTART:20251102T080000
END:STANDARD
BEGIN:DAYLIGHT
TZOFFSETFROM:-0700
TZOFFSETTO:-0600
TZNAME:MDT
DTSTART:20260308T090000
END:DAYLIGHT
BEGIN:STANDARD
TZOFFSETFROM:-0600
TZOFFSETTO:-0700
TZNAME:MST
DTSTART:20261101T080000
END:STANDARD
BEGIN:DAYLIGHT
TZOFFSETFROM:-0700
TZOFFSETTO:-0600
TZNAME:MDT
DTSTART:20270314T090000
END:DAYLIGHT
BEGIN:STANDARD
TZOFFSETFROM:-0600
TZOFFSETTO:-0700
TZNAME:MST
DTSTART:20271107T080000
END:STANDARD
END:VTIMEZONE
BEGIN:VEVENT
DTSTART;VALUE=DATE:20260703
DTEND;VALUE=DATE:20260704
DTSTAMP:20260421T074529
CREATED:20260108T191838Z
LAST-MODIFIED:20260108T191838Z
UID:10000325-1783036800-1783123199@pinetopstar.com
SUMMARY:Open Sew Day
DESCRIPTION:Whether you’re a beginner or a seasoned stitcher or somewhere in between\, this is a relaxed\, come-as-you-are space to sew.  Share ideas\, and enjoy the good company. Bring whatever project you’re working on.  There’s no instruction or pressure\, just time\, space\, and a community to create together.
URL:https://pinetopstar.com/class/open-sew-day/2026-07-03/
LOCATION:Pinetop Star
ATTACH;FMTTYPE=image/jpeg:https://pinetopstar.com/wp-content/uploads/2026/01/qtq80-HSO8kX-scaled.jpeg
END:VEVENT
BEGIN:VEVENT
DTSTART;TZID=America/Denver:20260704T100000
DTEND;TZID=America/Denver:20260704T113000
DTSTAMP:20260421T074529
CREATED:20241204T181648Z
LAST-MODIFIED:20241204T181648Z
UID:10000139-1783159200-1783164600@pinetopstar.com
SUMMARY:What's New-Show & Tell
DESCRIPTION:Join us for an exciting session where we will showcase: \nNew Products and Enhancements: Explore the lates arrivals\, get insights on what’s trending and how you may want to incorporate them into your projects.  Learn about any new enhancements to the shop. \nMeet the Teachers:  We are thrilled to introduce our talented teachers\, dedicated to helping all skill levels.  Our teachers come with years of experience.  They will introduce their upcoming classes which give you insight on new techniques you can learn from these classes. \nShow & Tell:  Bring something you’ve made to show.  Show & Tell is a great way to get new ideas and inspiration for your next project.
URL:https://pinetopstar.com/class/whats-new-show-tell/2026-07-04/
LOCATION:Pinetop Star
ATTACH;FMTTYPE=image/jpeg:https://pinetopstar.com/wp-content/uploads/2024/05/IMG_7353.jpeg
END:VEVENT
BEGIN:VEVENT
DTSTART;VALUE=DATE:20260710
DTEND;VALUE=DATE:20260711
DTSTAMP:20260421T074529
CREATED:20260108T195428Z
LAST-MODIFIED:20260108T195428Z
UID:10000336-1783641600-1783727999@pinetopstar.com
SUMMARY:Open Handwork
DESCRIPTION:This is a relaxed\, welcoming space for anyone who enjoys sewing by hand.  Bring your current project–embroidery\, binding\, english paper piecing\, or any other handwork. \nThere are no sewing machines at this group.  Just hand stitching\, conversation\, and time to work at your own pace.
URL:https://pinetopstar.com/class/open-handwork/2026-07-10/
LOCATION:Pinetop Star
ATTACH;FMTTYPE=image/jpeg:https://pinetopstar.com/wp-content/uploads/2026/01/qtq80-Jg9K8U.jpeg
END:VEVENT
BEGIN:VEVENT
DTSTART;VALUE=DATE:20260715
DTEND;VALUE=DATE:20260716
DTSTAMP:20260421T074529
CREATED:20260108T200203Z
LAST-MODIFIED:20260108T200203Z
UID:10000346-1784073600-1784159999@pinetopstar.com
SUMMARY:Patriotic Piecers
DESCRIPTION:Quilt Guild Patriotic Piecers Group meeting
URL:https://pinetopstar.com/class/patriotic-piecers-4/2026-07-15/
LOCATION:Pinetop Star
ATTACH;FMTTYPE=image/jpeg:https://pinetopstar.com/wp-content/uploads/2024/06/shutterstock_615343505.jpeg
END:VEVENT
BEGIN:VEVENT
DTSTART;VALUE=DATE:20260717
DTEND;VALUE=DATE:20260718
DTSTAMP:20260421T074529
CREATED:20260108T190833Z
LAST-MODIFIED:20260108T190833Z
UID:10000316-1784246400-1784332799@pinetopstar.com
SUMMARY:Open Sew
DESCRIPTION:Whether you’re a beginner or a seasoned stitcher or somewhere in between\, this is a relaxed\, come-as-you-are space to sew.  Share ideas\, and enjoy the good company. \nBring whatever project you’re working on.  There’s no instruction or pressure\, just time\, space\, and a community to create together.
URL:https://pinetopstar.com/class/open-sew-6/2026-07-17/
LOCATION:Pinetop Star
ATTACH;FMTTYPE=image/jpeg:https://pinetopstar.com/wp-content/uploads/2026/01/qtq80-61c4ex-scaled.jpeg
END:VEVENT
BEGIN:VEVENT
DTSTART;VALUE=DATE:20260730
DTEND;VALUE=DATE:20260731
DTSTAMP:20260421T074529
CREATED:20260108T214940Z
LAST-MODIFIED:20260108T214940Z
UID:10000359-1785369600-1785455999@pinetopstar.com
SUMMARY:Embroidery Club
DESCRIPTION:Come join the group of Machine Embroidery.  Reserve your seat because it fills up fast.
URL:https://pinetopstar.com/class/embroidery-club-3/2026-07-30/
LOCATION:Pinetop Star
ATTACH;FMTTYPE=image/jpeg:https://pinetopstar.com/wp-content/uploads/2026/01/qtq80-5aAdpX-scaled.jpeg
END:VEVENT
END:VCALENDAR