BEGIN:VCALENDAR
VERSION:2.0
PRODID:-//Pinetop Star Quilt Shop - ECPv6.15.13.1//NONSGML v1.0//EN
CALSCALE:GREGORIAN
METHOD:PUBLISH
X-ORIGINAL-URL:https://pinetopstar.com
X-WR-CALDESC:Events for Pinetop Star Quilt Shop
REFRESH-INTERVAL;VALUE=DURATION:PT1H
X-Robots-Tag:noindex
X-PUBLISHED-TTL:PT1H
BEGIN:VTIMEZONE
TZID:America/Denver
BEGIN:DAYLIGHT
TZOFFSETFROM:-0700
TZOFFSETTO:-0600
TZNAME:MDT
DTSTART:20250309T090000
END:DAYLIGHT
BEGIN:STANDARD
TZOFFSETFROM:-0600
TZOFFSETTO:-0700
TZNAME:MST
DTSTART:20251102T080000
END:STANDARD
BEGIN:DAYLIGHT
TZOFFSETFROM:-0700
TZOFFSETTO:-0600
TZNAME:MDT
DTSTART:20260308T090000
END:DAYLIGHT
BEGIN:STANDARD
TZOFFSETFROM:-0600
TZOFFSETTO:-0700
TZNAME:MST
DTSTART:20261101T080000
END:STANDARD
BEGIN:DAYLIGHT
TZOFFSETFROM:-0700
TZOFFSETTO:-0600
TZNAME:MDT
DTSTART:20270314T090000
END:DAYLIGHT
BEGIN:STANDARD
TZOFFSETFROM:-0600
TZOFFSETTO:-0700
TZNAME:MST
DTSTART:20271107T080000
END:STANDARD
END:VTIMEZONE
BEGIN:VEVENT
DTSTART;VALUE=DATE:20260430
DTEND;VALUE=DATE:20260501
DTSTAMP:20260421T034646
CREATED:20260108T214940Z
LAST-MODIFIED:20260108T214940Z
UID:10000356-1777507200-1777593599@pinetopstar.com
SUMMARY:Embroidery Club
DESCRIPTION:Come join the group of Machine Embroidery.  Reserve your seat because it fills up fast.
URL:https://pinetopstar.com/class/embroidery-club-3/2026-04-30/
LOCATION:Pinetop Star
ATTACH;FMTTYPE=image/jpeg:https://pinetopstar.com/wp-content/uploads/2026/01/qtq80-5aAdpX-scaled.jpeg
END:VEVENT
END:VCALENDAR